BEGIN:VCALENDAR
VERSION:2.0
PRODID:-//CHETV//Schedule//RU
CALSCALE:GREGORIAN
METHOD:PUBLISH
BEGIN:VEVENT
UID:69e83406e1aa8@chetv.ru
DTSTAMP:20260422T053550
DTSTART;TZID=Europe/Moscow:20260426T003500
DTEND;TZID=Europe/Moscow:20260426T021328
SUMMARY:Посмотреть "Большой кэш"
DESCRIPTION:Ты всегда можешь посмотреть "Большой кэш" на сайте ЧЕ! https://chetv.ru/show/bolshoj-kesh
URL:https://chetv.ru/online
LOCATION:https://chetv.ru/online
STATUS:CONFIRMED
SEQUENCE:0
END:VEVENT
BEGIN:VEVENT
UID:69e83406e1af8@chetv.ru
DTSTAMP:20260422T053550
DTSTART;TZID=Europe/Moscow:20260427T003500
DTEND;TZID=Europe/Moscow:20260427T021610
SUMMARY:Посмотреть "Большой кэш"
DESCRIPTION:Ты всегда можешь посмотреть "Большой кэш" на сайте ЧЕ! https://chetv.ru/show/bolshoj-kesh
URL:https://chetv.ru/online
LOCATION:https://chetv.ru/online
STATUS:CONFIRMED
SEQUENCE:0
END:VEVENT
END:VCALENDAR
