BEGIN:VCALENDAR
VERSION:2.0
PRODID:-//CHETV//Schedule//RU
CALSCALE:GREGORIAN
METHOD:PUBLISH
BEGIN:VEVENT
UID:69e8d9ff14d6a@chetv.ru
DTSTAMP:20260422T172359
DTSTART;TZID=Europe/Moscow:20260422T210000
DTEND;TZID=Europe/Moscow:20260422T220015
SUMMARY:Посмотреть "Влад решает"
DESCRIPTION:Ты всегда можешь посмотреть "Влад решает" на сайте ЧЕ! https://chetv.ru/show/vlad-resaet
URL:https://chetv.ru/online
LOCATION:https://chetv.ru/online
STATUS:CONFIRMED
SEQUENCE:0
END:VEVENT
BEGIN:VEVENT
UID:69e8d9ff14dc2@chetv.ru
DTSTAMP:20260422T172359
DTSTART;TZID=Europe/Moscow:20260422T230000
DTEND;TZID=Europe/Moscow:20260422T235950
SUMMARY:Посмотреть "Влад решает"
DESCRIPTION:Ты всегда можешь посмотреть "Влад решает" на сайте ЧЕ! https://chetv.ru/show/vlad-resaet
URL:https://chetv.ru/online
LOCATION:https://chetv.ru/online
STATUS:CONFIRMED
SEQUENCE:0
END:VEVENT
BEGIN:VEVENT
UID:69e8d9ff14df7@chetv.ru
DTSTAMP:20260422T172359
DTSTART;TZID=Europe/Moscow:20260423T210000
DTEND;TZID=Europe/Moscow:20260423T220043
SUMMARY:Посмотреть "Влад решает"
DESCRIPTION:Ты всегда можешь посмотреть "Влад решает" на сайте ЧЕ! https://chetv.ru/show/vlad-resaet
URL:https://chetv.ru/online
LOCATION:https://chetv.ru/online
STATUS:CONFIRMED
SEQUENCE:0
END:VEVENT
BEGIN:VEVENT
UID:69e8d9ff14e1b@chetv.ru
DTSTAMP:20260422T172359
DTSTART;TZID=Europe/Moscow:20260423T230000
DTEND;TZID=Europe/Moscow:20260423T235951
SUMMARY:Посмотреть "Влад решает"
DESCRIPTION:Ты всегда можешь посмотреть "Влад решает" на сайте ЧЕ! https://chetv.ru/show/vlad-resaet
URL:https://chetv.ru/online
LOCATION:https://chetv.ru/online
STATUS:CONFIRMED
SEQUENCE:0
END:VEVENT
BEGIN:VEVENT
UID:69e8d9ff14e3b@chetv.ru
DTSTAMP:20260422T172359
DTSTART;TZID=Europe/Moscow:20260427T210000
DTEND;TZID=Europe/Moscow:20260427T215949
SUMMARY:Посмотреть "Влад решает"
DESCRIPTION:Ты всегда можешь посмотреть "Влад решает" на сайте ЧЕ! https://chetv.ru/show/vlad-resaet
URL:https://chetv.ru/online
LOCATION:https://chetv.ru/online
STATUS:CONFIRMED
SEQUENCE:0
END:VEVENT
BEGIN:VEVENT
UID:69e8d9ff14e5b@chetv.ru
DTSTAMP:20260422T172359
DTSTART;TZID=Europe/Moscow:20260427T230000
DTEND;TZID=Europe/Moscow:20260427T235853
SUMMARY:Посмотреть "Влад решает"
DESCRIPTION:Ты всегда можешь посмотреть "Влад решает" на сайте ЧЕ! https://chetv.ru/show/vlad-resaet
URL:https://chetv.ru/online
LOCATION:https://chetv.ru/online
STATUS:CONFIRMED
SEQUENCE:0
END:VEVENT
BEGIN:VEVENT
UID:69e8d9ff14e7a@chetv.ru
DTSTAMP:20260422T172359
DTSTART;TZID=Europe/Moscow:20260428T210000
DTEND;TZID=Europe/Moscow:20260428T215957
SUMMARY:Посмотреть "Влад решает"
DESCRIPTION:Ты всегда можешь посмотреть "Влад решает" на сайте ЧЕ! https://chetv.ru/show/vlad-resaet
URL:https://chetv.ru/online
LOCATION:https://chetv.ru/online
STATUS:CONFIRMED
SEQUENCE:0
END:VEVENT
BEGIN:VEVENT
UID:69e8d9ff14e99@chetv.ru
DTSTAMP:20260422T172359
DTSTART;TZID=Europe/Moscow:20260428T230000
DTEND;TZID=Europe/Moscow:20260428T235953
SUMMARY:Посмотреть "Влад решает"
DESCRIPTION:Ты всегда можешь посмотреть "Влад решает" на сайте ЧЕ! https://chetv.ru/show/vlad-resaet
URL:https://chetv.ru/online
LOCATION:https://chetv.ru/online
STATUS:CONFIRMED
SEQUENCE:0
END:VEVENT
BEGIN:VEVENT
UID:69e8d9ff14eb8@chetv.ru
DTSTAMP:20260422T172359
DTSTART;TZID=Europe/Moscow:20260429T210000
DTEND;TZID=Europe/Moscow:20260429T215859
SUMMARY:Посмотреть "Влад решает"
DESCRIPTION:Ты всегда можешь посмотреть "Влад решает" на сайте ЧЕ! https://chetv.ru/show/vlad-resaet
URL:https://chetv.ru/online
LOCATION:https://chetv.ru/online
STATUS:CONFIRMED
SEQUENCE:0
END:VEVENT
BEGIN:VEVENT
UID:69e8d9ff14ed7@chetv.ru
DTSTAMP:20260422T172359
DTSTART;TZID=Europe/Moscow:20260429T230000
DTEND;TZID=Europe/Moscow:20260429T235840
SUMMARY:Посмотреть "Влад решает"
DESCRIPTION:Ты всегда можешь посмотреть "Влад решает" на сайте ЧЕ! https://chetv.ru/show/vlad-resaet
URL:https://chetv.ru/online
LOCATION:https://chetv.ru/online
STATUS:CONFIRMED
SEQUENCE:0
END:VEVENT
END:VCALENDAR
