BEGIN:VCALENDAR
VERSION:2.0
PRODID:-//CHETV//Schedule//RU
CALSCALE:GREGORIAN
METHOD:PUBLISH
BEGIN:VEVENT
UID:69ea97ae8b72c@chetv.ru
DTSTAMP:20260424T010534
DTSTART;TZID=Europe/Moscow:20260424T055500
DTEND;TZID=Europe/Moscow:20260424T081813
SUMMARY:Посмотреть "Дорожные войны"
DESCRIPTION:Ты всегда можешь посмотреть "Дорожные войны" на сайте ЧЕ! https://chetv.ru/show/dorojnyie_voynyi
URL:https://chetv.ru/online
LOCATION:https://chetv.ru/online
STATUS:CONFIRMED
SEQUENCE:0
END:VEVENT
END:VCALENDAR
